BEGIN:VCALENDAR
VERSION:2.0
PRODID:-//SMS - ECPv6.15.1.1//NONSGML v1.0//EN
CALSCALE:GREGORIAN
METHOD:PUBLISH
X-WR-CALNAME:SMS
X-ORIGINAL-URL:https://backend.somethingmedia.website
X-WR-CALDESC:Events for SMS
REFRESH-INTERVAL;VALUE=DURATION:PT1H
X-Robots-Tag:noindex
X-PUBLISHED-TTL:PT1H
BEGIN:VTIMEZONE
TZID:America/Chicago
BEGIN:DAYLIGHT
TZOFFSETFROM:-0600
TZOFFSETTO:-0500
TZNAME:CDT
DTSTART:20140309T080000
END:DAYLIGHT
BEGIN:STANDARD
TZOFFSETFROM:-0500
TZOFFSETTO:-0600
TZNAME:CST
DTSTART:20141102T070000
END:STANDARD
BEGIN:DAYLIGHT
TZOFFSETFROM:-0600
TZOFFSETTO:-0500
TZNAME:CDT
DTSTART:20150308T080000
END:DAYLIGHT
BEGIN:STANDARD
TZOFFSETFROM:-0500
TZOFFSETTO:-0600
TZNAME:CST
DTSTART:20151101T070000
END:STANDARD
BEGIN:DAYLIGHT
TZOFFSETFROM:-0600
TZOFFSETTO:-0500
TZNAME:CDT
DTSTART:20160313T080000
END:DAYLIGHT
BEGIN:STANDARD
TZOFFSETFROM:-0500
TZOFFSETTO:-0600
TZNAME:CST
DTSTART:20161106T070000
END:STANDARD
BEGIN:DAYLIGHT
TZOFFSETFROM:-0600
TZOFFSETTO:-0500
TZNAME:CDT
DTSTART:20170312T080000
END:DAYLIGHT
BEGIN:STANDARD
TZOFFSETFROM:-0500
TZOFFSETTO:-0600
TZNAME:CST
DTSTART:20171105T070000
END:STANDARD
BEGIN:DAYLIGHT
TZOFFSETFROM:-0600
TZOFFSETTO:-0500
TZNAME:CDT
DTSTART:20180311T080000
END:DAYLIGHT
BEGIN:STANDARD
TZOFFSETFROM:-0500
TZOFFSETTO:-0600
TZNAME:CST
DTSTART:20181104T070000
END:STANDARD
BEGIN:DAYLIGHT
TZOFFSETFROM:-0600
TZOFFSETTO:-0500
TZNAME:CDT
DTSTART:20190310T080000
END:DAYLIGHT
BEGIN:STANDARD
TZOFFSETFROM:-0500
TZOFFSETTO:-0600
TZNAME:CST
DTSTART:20191103T070000
END:STANDARD
BEGIN:DAYLIGHT
TZOFFSETFROM:-0600
TZOFFSETTO:-0500
TZNAME:CDT
DTSTART:20200308T080000
END:DAYLIGHT
BEGIN:STANDARD
TZOFFSETFROM:-0500
TZOFFSETTO:-0600
TZNAME:CST
DTSTART:20201101T070000
END:STANDARD
END:VTIMEZONE
BEGIN:VEVENT
DTSTART;TZID=America/Chicago:20200331T091500
DTEND;TZID=America/Chicago:20200331T100000
DTSTAMP:20260423T112025
CREATED:20200328T050056Z
LAST-MODIFIED:20200328T112845Z
UID:2551-1585646100-1585648800@backend.somethingmedia.website
SUMMARY:Beta test coffee Break
DESCRIPTION:Get your coffee brewed and computer fired up\, we’re going to make this the best possible SNS for artists like you! \n  \nJoin Zoom Meeting\nhttps://us04web.zoom.us/j/241600314?pwd=NnVtU3VrSG8yUS8yMEw1QzVDOFlXQT09 \nMeeting ID: 241 600 314
URL:https://backend.somethingmedia.website/event/beta-test-coffee-break/
CATEGORIES:Madison, WI,Middleton, WI,Stoughton, WI
ATTACH;FMTTYPE=image/jpeg:https://backend.somethingmedia.website/wp-content/uploads/2014/03/B9X4hhRCQAM5fOU.jpg-large.jpg
END:VEVENT
BEGIN:VEVENT
DTSTART;TZID=America/Chicago:20190626T180000
DTEND;TZID=America/Chicago:20190626T200000
DTSTAMP:20260423T112025
CREATED:20190615T012244Z
LAST-MODIFIED:20190615T012244Z
UID:2167-1561572000-1561579200@backend.somethingmedia.website
SUMMARY:June Project Showcase
DESCRIPTION:https://www.meetup.com/Madison-Independent-Filmmakers/events/254825916/ \n 
URL:https://backend.somethingmedia.website/event/june-project-showcase/
LOCATION:Madison Central Library\, 201 West Mifflin Street\, Madison\, WI\, 53703\, United States
CATEGORIES:Downtown,Madison, WI
ATTACH;FMTTYPE=image/jpeg:https://backend.somethingmedia.website/wp-content/uploads/2019/06/Madison-Indie-Film-Makers-Special-Guest-June-2019.jpg
ORGANIZER;CN="Madison Indie Filmmakers":MAILTO:randy@rsdigitalmedia.com
END:VEVENT
BEGIN:VEVENT
DTSTART;TZID=America/Chicago:20190609T173000
DTEND;TZID=America/Chicago:20190609T213000
DTSTAMP:20260423T112025
CREATED:20190529T045938Z
LAST-MODIFIED:20190530T032551Z
UID:2069-1560101400-1560115800@backend.somethingmedia.website
SUMMARY:2019 MAMA Awards
DESCRIPTION:https://www.facebook.com/events/355724955074655/
URL:https://backend.somethingmedia.website/event/2019-mama-awards/
LOCATION:Overture Center for the Arts\, 201 State Street\, Madison\, WI\, 53703\, United States
CATEGORIES:Downtown,Madison, WI
ORGANIZER;CN="Madison Area Music Association":MAILTO:hello@themamas.org
END:VEVENT
BEGIN:VEVENT
DTSTART;VALUE=DATE:20190607
DTEND;VALUE=DATE:20190610
DTSTAMP:20260423T112025
CREATED:20190529T045902Z
LAST-MODIFIED:20190530T041227Z
UID:2078-1559865600-1560124799@backend.somethingmedia.website
SUMMARY:2019 Between The Waves
DESCRIPTION:https://www.facebook.com/BTWMadisonWI/
URL:https://backend.somethingmedia.website/event/2019-between-the-waves/
CATEGORIES:Downtown,Madison, WI
END:VEVENT
BEGIN:VEVENT
DTSTART;TZID=America/Chicago:20170119T080000
DTEND;TZID=America/Chicago:20170119T170000
DTSTAMP:20260423T112025
CREATED:20170101T060018Z
LAST-MODIFIED:20170128T184120Z
UID:1006-1484812800-1484845200@backend.somethingmedia.website
SUMMARY:Mike Massey and Francie Phelps
DESCRIPTION:
URL:https://backend.somethingmedia.website/event/mike-massey-and-francie-phelps-1-19-17/
LOCATION:Brink Lounge\, 701 East Washington Avenue\, Madison\, WI\, United States
END:VEVENT
BEGIN:VEVENT
DTSTART;TZID=America/Chicago:20170114T080000
DTEND;TZID=America/Chicago:20170114T170000
DTSTAMP:20260423T112025
CREATED:20170101T060002Z
LAST-MODIFIED:20170128T183353Z
UID:1004-1484380800-1484413200@backend.somethingmedia.website
SUMMARY:Lucas Kadish Tundra 4tet
DESCRIPTION:
URL:https://backend.somethingmedia.website/event/lucas-kadish-tundra-4tet-1-14-17/
LOCATION:Brink Lounge\, 701 East Washington Avenue\, Madison\, WI\, United States
END:VEVENT
BEGIN:VEVENT
DTSTART;TZID=America/Chicago:20170113T080000
DTEND;TZID=America/Chicago:20170113T170000
DTSTAMP:20260423T112025
CREATED:20170101T060049Z
LAST-MODIFIED:20170128T182617Z
UID:1002-1484294400-1484326800@backend.somethingmedia.website
SUMMARY:Funky Chunky (Motown)
DESCRIPTION:
URL:https://backend.somethingmedia.website/event/funky-chunky-motown-1-13-17/
LOCATION:The Brink Lounge\, 701 East Washington Ave\, Suite 105\, Madison\, WI\, 53703\, United States
END:VEVENT
BEGIN:VEVENT
DTSTART;TZID=America/Chicago:20170112T080000
DTEND;TZID=America/Chicago:20170112T170000
DTSTAMP:20260423T112025
CREATED:20170101T060008Z
LAST-MODIFIED:20170128T182451Z
UID:1000-1484208000-1484240400@backend.somethingmedia.website
SUMMARY:Aaron Williams and the Hoodoo
DESCRIPTION:
URL:https://backend.somethingmedia.website/event/aaron-williams-and-the-hoodoo-1-12-17/
LOCATION:Brink Lounge\, 701 East Washington Avenue\, Madison\, WI\, United States
END:VEVENT
BEGIN:VEVENT
DTSTART;TZID=America/Chicago:20170107T080000
DTEND;TZID=America/Chicago:20170107T170000
DTSTAMP:20260423T112025
CREATED:20170101T060030Z
LAST-MODIFIED:20170128T180944Z
UID:998-1483776000-1483808400@backend.somethingmedia.website
SUMMARY:Ryan McGarth Band
DESCRIPTION:
URL:https://backend.somethingmedia.website/event/ryan-mcgarth-band-1-7-17/
LOCATION:Brink Lounge\, 701 East Washington Avenue\, Madison\, WI\, United States
END:VEVENT
BEGIN:VEVENT
DTSTART;TZID=America/Chicago:20170106T080000
DTEND;TZID=America/Chicago:20170106T170000
DTSTAMP:20260423T112025
CREATED:20170101T060000Z
LAST-MODIFIED:20170128T180610Z
UID:995-1483689600-1483722000@backend.somethingmedia.website
SUMMARY:East Wash Jukes
DESCRIPTION:
URL:https://backend.somethingmedia.website/event/east-wash-jukes-1-6-17/
LOCATION:Brink Lounge\, 701 East Washington Avenue\, Madison\, WI\, United States
END:VEVENT
BEGIN:VEVENT
DTSTART;TZID=America/Chicago:20160513T070000
DTEND;TZID=America/Chicago:20160514T020000
DTSTAMP:20260423T112025
CREATED:20160501T050008Z
LAST-MODIFIED:20160712T211344Z
UID:780-1463122800-1463191200@backend.somethingmedia.website
SUMMARY:608 Underground Presents: "Prominence"
DESCRIPTION:$6.00 Cover/ All Ages !!/ B.Y.O.B \nDoors open at 7pm/Doors Close 2am \nLive Music\nLocal Artists and Makers \nFeaturing performances by : \n3rd Dimension\n– https://soundcloud.com/team-dimension\n–https://twitter.com/3rdDimension \nSincere Life\n–http://sincerelifemusic.com/\n–https://twitter.com/SincereLife7 \nK.I.N.G Kronos\n–https://soundcloud.com/kingkronos\nhttps://twitter.com/KingKronos99 \nICE\n–http://www.soundcloud.com/xyz-rapper \nJovy Bagz\n–https://soundcloud.com/jovahn-hatchett\n–https://twitter.com/JovyBagz \nMic Kellogg\n–http://www.mickelloggmusic.com/\n–https://twitter.com/MicKellogg \nRiel Prophet\n–https://soundcloud.com/riel-prophet\n–https://twitter.com/RielProphet \nFlaco Dinero\n–https://www.youtube.com/channel/UC8dK1a2FgGmCD60ysice4sQ\n–https://twitter.com/IAMREALFLACO \nRED 608\n–https://soundcloud.com/red-the-bully \nWith DJ B-Love \n*A portion of the profits to benefit the UW Odyssey Project\nhttp://www.odyssey.wisc.edu/
URL:https://backend.somethingmedia.website/event/prominence/
LOCATION:Lothlorien Co-op\, 244 W Lakelawn Pl\, Madison\, 53703\, United States
END:VEVENT
BEGIN:VEVENT
DTSTART;TZID=America/Chicago:20140711T190000
DTEND;TZID=America/Chicago:20140711T230000
DTSTAMP:20260423T112025
CREATED:20140708T190340Z
LAST-MODIFIED:20140708T190340Z
UID:494-1405105200-1405119600@backend.somethingmedia.website
SUMMARY:One Night Stand
DESCRIPTION:  \nOne Night Only is a local-led organization that focuses on creating a sense of unity among Madison’s artists. While independently motivated\, the members of One Night Only share a collective vision to create a thriving art community that all can benefit from. Currently we work with the Goodman Community center\, The Madison Public Library\, UW-Madison Art Department and 100 State to provide after school art workshops\, networking sessions and opportunities for artists to participate in collaborative gallery exhibitions around the downtown area \nFriday\, July 11th! \n100 State will be taken over by a group of over 30 Madison artists for one unforgettable night of: \n-neon sculpture\, tape art\, screen prints\, video installations\, paintings\, glass blown work( +++) locally made\, on display and for sale\n– free food\n-live art\n-live bands\, emcees\, djs\, poets and more\n-artists battling each other on the canvas! Winner goes to whoever raises the most funds for the families and children of the YWCA
URL:https://backend.somethingmedia.website/event/one-night-stand/
LOCATION:100 State\, 316 W Washington Avenue #600\, Madison\, WI\, United States
ATTACH;FMTTYPE=image/jpeg:https://backend.somethingmedia.website/wp-content/uploads/2014/07/onenightstand.jpg
END:VEVENT
BEGIN:VEVENT
DTSTART;TZID=America/Chicago:20140614T090000
DTEND;TZID=America/Chicago:20140615T010000
DTSTAMP:20260423T112025
CREATED:20140602T060959Z
LAST-MODIFIED:20140602T060959Z
UID:485-1402736400-1402794000@backend.somethingmedia.website
SUMMARY:"Sim Simma\, It's Summa" w/ F.Stokes & Radish\, Man Mantis\, and Dense City
DESCRIPTION:Majestic Live has put together another amazing lineup. Show some love to your musical masters and your hometown heroes\, but keep the kids home because this show is 18+.
URL:https://backend.somethingmedia.website/event/sim-simma-its-summa-w-f-stokes-radish-man-mantis-and-dense-city/
LOCATION:Frequency\, 121 W. Main St.\, Madison\, United States
ATTACH;FMTTYPE=image/jpeg:https://backend.somethingmedia.website/wp-content/uploads/2014/06/photo1.jpg
END:VEVENT
BEGIN:VEVENT
DTSTART;TZID=America/Chicago:20140609T190000
DTEND;TZID=America/Chicago:20140610T000000
DTSTAMP:20260423T112025
CREATED:20140602T060214Z
LAST-MODIFIED:20140602T060214Z
UID:482-1402340400-1402358400@backend.somethingmedia.website
SUMMARY:Jump Start The Soul
DESCRIPTION:
URL:https://backend.somethingmedia.website/event/jump-start-the-soul/
LOCATION:Frequency\, 121 W. Main St.\, Madison\, United States
ATTACH;FMTTYPE=image/jpeg:https://backend.somethingmedia.website/wp-content/uploads/2014/06/photo2.jpg
END:VEVENT
BEGIN:VEVENT
DTSTART;TZID=America/Chicago:20140429T080000
DTEND;TZID=America/Chicago:20140429T235500
DTSTAMP:20260423T112025
CREATED:20140331T224755Z
LAST-MODIFIED:20140331T224755Z
UID:369-1398758400-1398815700@backend.somethingmedia.website
SUMMARY:Koan @ Segredo
DESCRIPTION:
URL:https://backend.somethingmedia.website/event/koan-segredo/
LOCATION:Segredo\, 624 University Avenue\, Madison\, 53715\, United States
ATTACH;FMTTYPE=image/jpeg:https://backend.somethingmedia.website/wp-content/uploads/2014/03/29-elg.jpg
END:VEVENT
BEGIN:VEVENT
DTSTART;VALUE=DATE:20140416
DTEND;VALUE=DATE:20140417
DTSTAMP:20260423T112025
CREATED:20140401T173112Z
LAST-MODIFIED:20140401T173112Z
UID:380-1397606400-1397692799@backend.somethingmedia.website
SUMMARY:Jazz at Five Fundraiser @ The Brink Lounge
DESCRIPTION:Working with Bear Sound LLC on Jazz at Five Fundraiser at The Brink Lounge.  Time TBA.
URL:https://backend.somethingmedia.website/event/jazz-at-five-fundraiser-the-brink-lounge/
LOCATION:The Brink Lounge\, 701 East Washington Ave\, Suite 105\, Madison\, WI\, 53703\, United States
END:VEVENT
BEGIN:VEVENT
DTSTART;VALUE=DATE:20140413
DTEND;VALUE=DATE:20140414
DTSTAMP:20260423T112025
CREATED:20140401T172809Z
LAST-MODIFIED:20140403T010444Z
UID:377-1397347200-1397433599@backend.somethingmedia.website
SUMMARY:Jazz on a Sunday @ the Brink Lounge
DESCRIPTION:Working with Bear Sound LLC for Jazz on a Sunday at the Brink Lounge.  Time Noon-?.  Stibbe assisting.
URL:https://backend.somethingmedia.website/event/jazz-on-a-sunday-the-brink-lounge/
LOCATION:The Brink Lounge\, 701 East Washington Ave\, Suite 105\, Madison\, WI\, 53703\, United States
END:VEVENT
BEGIN:VEVENT
DTSTART;VALUE=DATE:20140405
DTEND;VALUE=DATE:20140406
DTSTAMP:20260423T112025
CREATED:20140401T171719Z
LAST-MODIFIED:20140403T010556Z
UID:372-1396656000-1396742399@backend.somethingmedia.website
SUMMARY:VO5 @ the East Side Club
DESCRIPTION:Working with Bear Sound LLC for the VO5 show at the East Side Club.  Time 1-?.  Contact Shia or Stibbe if interested in assisting.
URL:https://backend.somethingmedia.website/event/vo5/
LOCATION:East Side Club\, 3735 Monona Dr\, Madison\, WI\, 53714\, United States
END:VEVENT
BEGIN:VEVENT
DTSTART;TZID=America/Chicago:20140321T080000
DTEND;TZID=America/Chicago:20140322T000000
DTSTAMP:20260423T112025
CREATED:20140317T024521Z
LAST-MODIFIED:20140317T024521Z
UID:250-1395388800-1395446400@backend.somethingmedia.website
SUMMARY:K.I.N.G. Kronos & Proph Bella @ the Wisco
DESCRIPTION:
URL:https://backend.somethingmedia.website/event/k-i-n-g-kronos-proph-bella-the-wisco/
LOCATION:The Wisco\,  852 Williamson St\, Madison\, WI\, 53703\, United States
END:VEVENT
BEGIN:VEVENT
DTSTART;TZID=America/Chicago:20140214T200000
DTEND;TZID=America/Chicago:20140215T030000
DTSTAMP:20260423T112025
CREATED:20140211T083035Z
LAST-MODIFIED:20140211T083035Z
UID:157-1392408000-1392433200@backend.somethingmedia.website
SUMMARY:All Good Things @ Nottingham CoOp
DESCRIPTION:All Good Things will be at the Nottingham CoOp for V-Day. Don’t forget your glow sticks
URL:https://backend.somethingmedia.website/event/all-good-things-nottingham-coop/
LOCATION:Nottingham CoOp\, 146 Langdon St.\, Madison\, United States
END:VEVENT
BEGIN:VEVENT
DTSTART;TZID=America/Chicago:20140212T200000
DTEND;TZID=America/Chicago:20140212T235500
DTSTAMP:20260423T112025
CREATED:20140211T084148Z
LAST-MODIFIED:20140211T084323Z
UID:159-1392235200-1392249300@backend.somethingmedia.website
SUMMARY:Love & Light\, Spankalicious\, Swagu @ Frequency
DESCRIPTION:Our local Swagu boys are back at it again. Check out the Frequency this Wednesday to see Love & Light\, Spankalicious.
URL:https://backend.somethingmedia.website/event/love-light-spankalicious-swagu-frequency/
LOCATION:Frequency\, 121 W. Main St.\, Madison\, United States
END:VEVENT
END:VCALENDAR